BEGIN:VCALENDAR
VERSION:2.0
PRODID:-//hacksw/handcal//NONSGML v1.0//EN
BEGIN:VEVENT
SUMMARY:Match U18 Masculins
UID:8b439bee-874a-46fa-bf42-898763d1d555
DTSTART:20260510T090000Z
DTEND:20260510T100000Z
LOCATION:Localisation Gymnase de l'Europe - 74 impasse de l'Europe 01400 Chatillon sur Chalaronne
CATEGORIES:Sportif
STATUS:
URL;VALUE=URI:https://dombeshandball.sportsregions.fr/evenements/2026/05/10/match-u18-masculins-2440657
END:VEVENT
END:VCALENDAR
