BEGIN:VCALENDAR
VERSION:2.0
PRODID:-//hacksw/handcal//NONSGML v1.0//EN
BEGIN:VEVENT
SUMMARY:Match U15 Masculins
UID:f9c1e6e3-ec0d-4420-ae3e-d41c5073901d
DTSTART:20260509T120000Z
DTEND:20260509T130000Z
LOCATION:Localisation Halle des Sports - 114 rue des Dombes 01330 Villars les Dombes
CATEGORIES:Sportif
STATUS:
URL;VALUE=URI:https://dombeshandball.sportsregions.fr/evenements/2026/05/09/match-u15-masculins-2440652
END:VEVENT
END:VCALENDAR
