BEGIN:VCALENDAR
VERSION:2.0
PRODID:-//hacksw/handcal//NONSGML v1.0//EN
BEGIN:VEVENT
SUMMARY:Match U11 Mixte
UID:f9b6c84c-5e67-490e-864a-a4503e6c483b
DTSTART:20260503T113000Z
DTEND:20260503T160000Z
LOCATION:Localisation La Croix Blanche - 52 rue des Dimes 01100 Bourg en Bresse
CATEGORIES:Sportif
STATUS:
URL;VALUE=URI:https://dombeshandball.sportsregions.fr/evenements/2026/05/03/match-u11-mixte-2440636
END:VEVENT
END:VCALENDAR
