BEGIN:VCALENDAR
VERSION:2.0
PRODID:-//hacksw/handcal//NONSGML v1.0//EN
BEGIN:VEVENT
SUMMARY:Match U18 Masculins
UID:c0edec83-7d8f-4287-b956-693e7b71de4b
DTSTART:20260425T164500Z
DTEND:20260425T174500Z
LOCATION:Localisation Gymnase Marc Geoffray - rue Montchervet 69830 Saint Georges de Reneins
CATEGORIES:Sportif
STATUS:
URL;VALUE=URI:https://dombeshandball.sportsregions.fr/evenements/2026/04/25/match-u18-masculins-2440654
END:VEVENT
END:VCALENDAR
