BEGIN:VCALENDAR
VERSION:2.0
PRODID:-//hacksw/handcal//NONSGML v1.0//EN
BEGIN:VEVENT
SUMMARY:Match U15 Masculins
UID:7fb786c3-4964-433b-a649-977ec1a597ae
DTSTART:20260425T150000Z
DTEND:20260425T160000Z
LOCATION:Localisation Salle Rosselli - Avenue de Verdun 69220 Belleville
CATEGORIES:Sportif
STATUS:
URL;VALUE=URI:https://dombeshandball.sportsregions.fr/evenements/2026/04/25/match-u15-masculins-2440643
END:VEVENT
END:VCALENDAR
